BEGIN:VCALENDAR
PRODID:NingEventWidget-v1
VERSION:2.0
METHOD:PUBLISH
BEGIN:VEVENT
UID:4320450:Event:2438
DTSTAMP:20260425T162030Z
SUMMARY:City Food Tours: Decadent Gourmet
DESCRIPTION:Treat your taste buds to a two-hour gourmet adventure pres
 ented by City Food Tours. The Decadent Gourmet tour begins at the city
 ’s best cheese emporium, where we’ll introduce you to 4 fantastic 
 farmstead and imported cheeses. You will then enjoy a chocolate tastin
 g at a popular European-inspired chocolate café. The grand finale is 
 a visit to the city’s celebrated gelato shop for a blind tasting of 
 6 amazing examples of luscious gelato. Great for individuals, couples,
  families and out-of-town guests! With less than 20 minutes of walking
 , the tour suits people of all abilities. The Decadent Gourmet tour is
  offered every Saturday & Sunday from 3 p.m.-5:30 p.m. Advance tickets
  (just $29) are required; call 800-979-3370 or visit www.cityfoodtours
 .com.\n\nFor more information visit http://phillytodo.com/events/city-
 food-tours-decadent
DTSTART:20100925T190000Z
DTEND:20100925T213000Z
CATEGORIES:tour
LOCATION:Center City
WEBSITE:http://www.cityfoodtours.com
URL:http://www.cityfoodtours.com
CONTACT:(800)-979-3370
ORGANIZER;CN="Robert Weinberg":http://phillytodo.com/profile/RobertWei
 nberg
ATTACH;FMTTYPE="image/jpeg":http://storage.ning.com/topology/rest/1.0/
 file/get/3054950426?profile=original
ATTENDEE;ROLE=REQ-PARTICIPANT;PARTSTAT=ACCEPTED;RSVP=TRUE;CN="Robert W
 einberg":http://phillytodo.com/profile/RobertWeinberg
END:VEVENT
END:VCALENDAR
