BEGIN:VCALENDAR
PRODID:NingEventWidget-v1
VERSION:2.0
METHOD:PUBLISH
BEGIN:VEVENT
UID:4320450:Event:2435
DTSTAMP:20260425T175519Z
SUMMARY:City Food Tours: Craft Beer & Artisanal Cheese
DESCRIPTION:Celebrate Philly’s thriving beer scene on City Food Tour
 s' unique Craft Beer & Artisanal Cheese tour! During this delicious 2-
 hour adventure in Old City, a fun and knowledgeable food and beer pro 
 will introduce you to 8 craft beers in one of the city’s best microb
 reweries, and provide a decadent tasting of 4 artisanal cheeses in a b
 outique cheese shop. Everyone is welcome to ask questions. Great for b
 irthdays, anniversaries, dates, and kicking off a night out on the tow
 n! With less than 15 minutes of walking, this event is enjoyable for g
 uests of any ability. All guests must be at least 21 years old. The Cr
 aft Beer & Artisanal Cheese Tour is offered on the 1st, 3rd and 5th Sa
 turday of every month at 3:30 pm. Advance tickets ($45/person) are req
 uired; call 800-979-3370 or visit www.cityfoodtours.com.\n\nFor more i
 nformation visit http://phillytodo.com/events/city-food-tours-craft-be
 er
DTSTART:20101002T193000Z
DTEND:20101002T213000Z
CATEGORIES:tour
LOCATION:Chestnut
WEBSITE:http://www.cityfoodtours.com
URL:http://www.cityfoodtours.com
CONTACT:(800)979-3370
ORGANIZER;CN="Robert Weinberg":http://phillytodo.com/profile/RobertWei
 nberg
ATTACH;FMTTYPE="image/jpeg":http://storage.ning.com/topology/rest/1.0/
 file/get/3054950342?profile=original
ATTENDEE;ROLE=REQ-PARTICIPANT;PARTSTAT=ACCEPTED;RSVP=TRUE;CN="Robert W
 einberg":http://phillytodo.com/profile/RobertWeinberg
END:VEVENT
END:VCALENDAR
