BEGIN:VCALENDAR
PRODID:NingEventWidget-v1
VERSION:2.0
METHOD:PUBLISH
BEGIN:VEVENT
UID:4320450:Event:1548
DTSTAMP:20260425T142702Z
SUMMARY:City Chase Philadelphia
DESCRIPTION:Save $10 when use promo code PHILLY10. City Chase Philadel
 phia is back -this year in the warm summer on Saturday, July 31! We're
  preparing to unleash the most unique challenges ever. From Fairmount 
 Park to the top of South Philly, through the University City District 
 and over to the Delaware River. Enjoy a full day of Laughter, Adventur
 e and Discovery as you and a teammate navigate Philadelphia using only
  your brains, street smarts, feet and public transportation. City Chas
 e is the World's Largest Urban Adventure Series.\n\nYou'll learn about
  yourself, your teammate and the City of Brotherly Love as you are cha
 llenged physically, mentally and humorously throughout the 6-hour even
 t. Teams of 2 are given a clue sheet and it is up to them to figure ou
 t where they need to go, complete the challenges and get back to the f
 inish line first! The event combines elements of Fear Factor, The Amaz
 ing Race and a 5K!\n\nFor more information visit http://phillytodo.com
 /events/city-chase-philadelphia
DTSTART:20100731T130000Z
DTEND:20100731T200000Z
CATEGORIES:sports, event, adventure, series
LOCATION:Love Park
WEBSITE:
URL:
CONTACT:
ORGANIZER;CN="UpcomingEvents.com":http://phillytodo.com/profile/Upcomi
 ngEventscom
ATTACH;FMTTYPE="image/jpeg":http://storage.ning.com/topology/rest/1.0/
 file/get/3054949913?profile=original
ATTENDEE;ROLE=REQ-PARTICIPANT;PARTSTAT=ACCEPTED;RSVP=TRUE;CN="Upcoming
 Events.com":http://phillytodo.com/profile/UpcomingEventscom
END:VEVENT
END:VCALENDAR
