BEGIN:VCALENDAR
PRODID:NingEventWidget-v1
VERSION:2.0
METHOD:PUBLISH
BEGIN:VEVENT
UID:4320450:Event:49309
DTSTAMP:20260425T142802Z
SUMMARY:Cirlesque-esque-A Mildly Adult Soiree
DESCRIPTION:Join the Philadelphia School of Circus Arts (5900A Greene 
 Street) for a night of breathtaking circus, hilarious comedy and a lit
 tle bit o’ burlesque on Saturday, February 11, 2017. This show follo
 ws a delightfully eccentric cast of characters on the night of their g
 raduation show from an internationally renowned school of burlesque. P
 art show, part retrospective, part storytelling and all circus, spend 
 your Valentine's Day Weekend watching us take off our clothes (sorta) 
 and bare our…stories. Showtimes are 5:00pm and 08:30pm. Parental dis
 cretion is advised, due to adult themes and humor. Tickets are $15 eac
 h. For more information visit, www.phillycircus.com or call 215-849-19
 91.\n \n\nFor more information visit http://phillytodo.com/events/cir
 lesque-esque-a-mildly-adult-soiree
DTSTART:20170211T220000Z
DTEND:20170212T000000Z
CATEGORIES:performance
LOCATION:Philadelphia School of Circus Arts
WEBSITE:http://phillycircus.com/performances/
URL:http://phillycircus.com/performances/
CONTACT:2158491991
ORGANIZER:Philadelphia School of Circus Arts
ATTACH;FMTTYPE="image/jpeg":http://storage.ning.com/topology/rest/1.0/
 file/get/3055002195?profile=original
ATTENDEE;ROLE=REQ-PARTICIPANT;PARTSTAT=ACCEPTED;RSVP=TRUE;CN="Aversa P
 R & Events":http://phillytodo.com/profile/KoryAversa277
END:VEVENT
END:VCALENDAR
