BEGIN:VCALENDAR
PRODID:NingEventWidget-v1
VERSION:2.0
METHOD:PUBLISH
BEGIN:VEVENT
UID:4320450:Event:32058
DTSTAMP:20260425T142611Z
SUMMARY:Circus Arts Pop-Up Boudoir
DESCRIPTION:What do you get when you pair boudoir photography from Dol
 lFace Studio & Aerial artist Cotton Candy Circus Arts??  You get the 
 first ever circus arts boudoir pop-up!  This is the ultimate gift for
  that special someone or for yourself, we have a limited amount of spa
 ces so please contact Dollface directly to book your shoot!!\n**These 
 are private photo shoots so please contact us directly for more inform
 ation or to book your shoot!!\n\nFor more information visit http://phi
 llytodo.com/events/circus-arts-pop-up-boudoir
DTSTART:20130518T040000Z
DTEND:20130520T035900Z
CATEGORIES:boudoir, pop-up, shoot
LOCATION:Northern Liberties
WEBSITE:http://dollfacestudio.com/
URL:http://dollfacestudio.com/
CONTACT:215-684-2970
ORGANIZER;CN="B Wilson":http://phillytodo.com/profile/BWilson
ATTACH;FMTTYPE="image/jpeg":http://storage.ning.com/topology/rest/1.0/
 file/get/3054965816?profile=original
ATTENDEE;ROLE=REQ-PARTICIPANT;PARTSTAT=ACCEPTED;RSVP=TRUE;CN="B Wilson
 ":http://phillytodo.com/profile/BWilson
END:VEVENT
END:VCALENDAR
