BEGIN:VCALENDAR
PRODID:NingEventWidget-v1
VERSION:2.0
METHOD:PUBLISH
BEGIN:VEVENT
UID:4320450:Event:32004
DTSTAMP:20260425T160918Z
SUMMARY:Cinco Your Teeth Into This Le Viet Taco
DESCRIPTION:Mexican and Vietnamese - why not? Le Viet restaurant is of
 fering a Mexican special in honor of Cinco de Mayo during happy hour o
 n Friday, May 3. From 5 to 7 pm, order Le Viet's new zesty Taco Mex pl
 ate, with two tacos for just $7, and pair it with $3 Coronas or $5 Mar
 garitas. These delicious tacos with a Vietnamese flair will make you l
 oco for more\n\nFor more information visit http://phillytodo.com/event
 s/cinco-your-teeth-into-this-le-viet-taco
DTSTART:20130505T150000Z
DTEND:20130506T020000Z
CATEGORIES:cinco, de, mayo, dinner
LOCATION:Le Viet
WEBSITE:http://www.levietrestaurant.com
URL:http://www.levietrestaurant.com
CONTACT:215.463.1570
ORGANIZER:Bruce Cao
ATTACH;FMTTYPE="image/jpeg":http://storage.ning.com/topology/rest/1.0/
 file/get/3054965582?profile=original
ATTENDEE;ROLE=REQ-PARTICIPANT;PARTSTAT=ACCEPTED;RSVP=TRUE;CN="Tina Bre
 slow":http://phillytodo.com/profile/TinaBreslow
END:VEVENT
END:VCALENDAR
