BEGIN:VCALENDAR
PRODID:NingEventWidget-v1
VERSION:2.0
METHOD:PUBLISH
BEGIN:VEVENT
UID:4320450:Event:31994
DTSTAMP:20260425T150421Z
SUMMARY:Cinco de Mayo Record Bizarre Swap & Sale 5/5 2-6pm
DESCRIPTION:Roll through for their first Record Bazaar!  With over 3
 0 participating vendors this record swap and sale will be a Sunday Fun
 day full venue event unlike any you’ve experienced in the past!\nEqu
 ipped with musical ammo, both businesses and individuals will join tog
 ether for your digging and swapping pleasure. From Philly’s own A.K.
 A. Music, Reptilian Records, Sit N’ Spin, Record Breakin’ Music an
 d Milkcrate Café to Open Crates Vinyl Culture Collective to DJ Frosty
  Crates and more.\nFor those who enjoy getting crafty on a Sunday, Pab
 st will be sponsoring a slip mat design challenge with swag& the oppor
 tunity for the best design to be made & entered into theNational Pabst
  Art gallery!\nExpect genres covered from:  used and new punk and me
 tal, soul, disco, oldies, psych, reggae & hip hop, electronic disco, f
 unk, Motown, classic rock, jazz, R&B, 80s dance, $1 records, 50s-90s r
 ock and roll of all types, garage rock, rockabilly, international, Lat
 in, new wave, symphony, comedy/musical, 60s-70s blues, experimental ja
 zz, new wave, oddball, outsider, house, and ‘’rare stuff’’ and
  on and on.\nIf you dig vinyl, tacos, Pabst, margs, tequila, bowling a
 nd or Sundays – roll through!\nWhether you come out for the wax or f
 or a taco and to kick it with your vinyl junky friends, make sure to m
 ark this one on the calendar 'not to be missed.' Drink specials and ot
 her surprises will be happening for sure.\n\nMore can be found here on
  facecbook: Join us for our Cinco de Mayo Record Bazaar 5/5\nOr on ou
 r homepage: www.northbowlphilly.com\n \n\n\n\nFor more information vi
 sit http://phillytodo.com/events/cinco-de-mayo-record-bizarre-swap-sal
 e-5-5-2-6pm
DTSTART:20130505T180000Z
DTEND:20130505T220000Z
CATEGORIES:record, bazaar
LOCATION:North Bowl Lounge N' Lanes
WEBSITE:http://www.northbowlphilly.com
URL:http://www.northbowlphilly.com
CONTACT:2152382695
ORGANIZER;CN="North Bowl @northbowlphilly":http://phillytodo.com/profi
 le/northbowlphilly
ATTACH;FMTTYPE="image/jpeg":http://storage.ning.com/topology/rest/1.0/
 file/get/3054965756?profile=original
ATTENDEE;ROLE=REQ-PARTICIPANT;PARTSTAT=ACCEPTED;RSVP=TRUE;CN="North Bo
 wl @northbowlphilly":http://phillytodo.com/profile/northbowlphilly
END:VEVENT
END:VCALENDAR
