BEGIN:VCALENDAR
PRODID:NingEventWidget-v1
VERSION:2.0
METHOD:PUBLISH
BEGIN:VEVENT
UID:4320450:Event:34731
DTSTAMP:20260425T142657Z
SUMMARY:Cigars, Cocktails and Connections!
DESCRIPTION:Please join us and other like minded business professional
 s for an evening of cigars paired with signature whiskeys and cocktail
 s.\n \nMeet new contacts, create new business alliances, learn about 
 cigars and cocktail pairings.  Enjoy a cigar & paired cocktail or spi
 rit from a selection of hand chosen cigars and specialty crafted cockt
 ails for this event by Adesso Cigar Lounge.\n \nWhat to expect:\n \n
 Each guest will choose a cigar, learn how to cut, light, and smoke a c
 igar properly. Guest will learn the construction of their chosen cigar
  and why that pairs well with the chosen cocktails. Those in attendanc
 e will have an opportunity to meet new connections while be entertaine
 d by a live jazz band.\n \nLink: http://cigarevents-gr.eventbrite.co
 m\n\nFor more information visit http://phillytodo.com/events/cigars-co
 cktails-and-connections
DTSTART:20131023T220000Z
DTEND:20131024T010000Z
CATEGORIES:networking
LOCATION:Club Adesso Cigar Bar Lounge
WEBSITE:
URL:
CONTACT:
ORGANIZER:Ultimate Networking Group
ATTACH;FMTTYPE="image/jpeg":http://storage.ning.com/topology/rest/1.0/
 file/get/3054967957?profile=original
ATTENDEE;ROLE=REQ-PARTICIPANT;PARTSTAT=ACCEPTED;RSVP=TRUE;CN="Upcoming
 Events.com":http://phillytodo.com/profile/UpcomingEventscom
END:VEVENT
END:VCALENDAR
