BEGIN:VCALENDAR
PRODID:NingEventWidget-v1
VERSION:2.0
METHOD:PUBLISH
BEGIN:VEVENT
UID:4320450:Event:40624
DTSTAMP:20260425T160207Z
SUMMARY:Chromography: Writing in Color
DESCRIPTION:Rowan University Art Gallery presents Chromography: Writin
 g in Color, a two-person exhibition examining concepts of translation 
 and symbol-based communication, from March 23 - May 9.\nA reception on
  Thursday, April 9 from 5:00 – 8:00 p.m. features an artist’s talk
  beginning at 6:00 p.m. to include a performance of excerpts from musi
 cal translations represented in the exhibit.\n \nArtists Melinda Stef
 fy and Gerard Brown explore concepts of translation and symbol-based c
 ommunication in their work. Starting with different sets of symbols—
 Steffy with music and Brown with writing—both artists have developed
  systems for translating distinct methods of communication into visual
  artworks. Written texts, then, rely on color and pattern to be unders
 tood. Music, usually experienced as linear and time-based, can be seen
  all at once, in immediate spatial configurations.\n \n\nFor more inf
 ormation visit http://phillytodo.com/events/chromography-writing-in-co
 lor
DTSTART:20150323T040000Z
DTEND:20150510T035900Z
CATEGORIES:gallery, exhibition
LOCATION:Rowan University Art Gallery
WEBSITE:http://www.rowan.edu/artgallery
URL:http://www.rowan.edu/artgallery
CONTACT:856-256-4521
ORGANIZER;CN="mary salvante":http://phillytodo.com/profile/marysalvant
 e
ATTACH;FMTTYPE="image/jpeg":http://storage.ning.com/topology/rest/1.0/
 file/get/3054987159?profile=original
ATTENDEE;ROLE=REQ-PARTICIPANT;PARTSTAT=ACCEPTED;RSVP=TRUE;CN="mary sal
 vante":http://phillytodo.com/profile/marysalvante
END:VEVENT
END:VCALENDAR
