BEGIN:VCALENDAR
PRODID:NingEventWidget-v1
VERSION:2.0
METHOD:PUBLISH
BEGIN:VEVENT
UID:4320450:Event:35152
DTSTAMP:20260425T124905Z
SUMMARY:Christmas Village
DESCRIPTION:South Street Headhouse District and PHAIR, Philadelphia’
 s open-air market, presents a full day of handmade shopping at the fir
 st Christmas Village under the Headhouse Square Shambles (Second and P
 ine streets) on Saturday, December 14, 2013 from 11:00am to 9:00pm. Fe
 stivities will include 30 handmade artisans curated by PHAIR, a visit 
 from Santa, holiday photos at Posey Booth, and food and drink from Bra
 uhaus Schmitz.  Christmas Village is a free event, with shopping, foo
 d and drinks pay-as-you-go. For more information, visit southstreet.c
 om, call (215) 413-3713 or follow @officialsouthst on Twitter.\n\nFor
  more information visit http://phillytodo.com/events/christmas-village
DTSTART:20131214T160000Z
DTEND:20131215T020000Z
CATEGORIES:shopping, christmas, village
LOCATION:Headhouse Square Shambles
WEBSITE:http://www.southstreet.com
URL:http://www.southstreet.com
CONTACT:(215) 413-3713
ORGANIZER;CN="Aversa PR & Events":http://phillytodo.com/profile/KoryAv
 ersa277
ATTACH;FMTTYPE="image/jpeg":http://storage.ning.com/topology/rest/1.0/
 file/get/3054968101?profile=original
ATTENDEE;ROLE=REQ-PARTICIPANT;PARTSTAT=ACCEPTED;RSVP=TRUE;CN="Aversa P
 R & Events":http://phillytodo.com/profile/KoryAversa277
END:VEVENT
END:VCALENDAR
