BEGIN:VCALENDAR
PRODID:NingEventWidget-v1
VERSION:2.0
METHOD:PUBLISH
BEGIN:VEVENT
UID:4320450:Event:48023
DTSTAMP:20260425T143230Z
SUMMARY:Christmas Village in Philadelphia (Opening Weekend)
DESCRIPTION:Christmas Village in Philadelphia presented by NRG returns
  to Philadelphia for the 2016 holiday season at an exciting new locati
 on starting Thanksgiving Day!. Philadelphia’s largest holiday attrac
 tion will this year transform Philadelphia’s City Hall (1400 JFK Blv
 d.) into a traditional, open-air German Christmas Market, open daily b
 etween Thursday, November 24, 2016 and Christmas Eve, Saturday, Decemb
 er 24, 2016. Christmas Village in Philadelphia will open early for a s
 pecial preview on Saturday, November 19 and Sunday, November 20, 2016.
  Christmas Village will light up the City Hall Courtyard and Northern 
 Apron with holiday sights and sounds featuring thousands of twinkling 
 lights, festive Christmas decorations, live music at the main stage, c
 hildren’s activities and photos with Santa. Shoppers will find high-
 quality, international and local gifts and decorations. Visitors are a
 lso invited to warm up with a glass of warm mulled wine or hot chocola
 te while enjoying the great variety of European food and drinks. Admis
 sion is free, with food, drink and shopping pay as you go. Thanksgivin
 g hours are 9am to 5pm. Daily hours after Thanksgiving are Fridays and
  Saturdays, 11am to 8pm, and Sundays through Thursdays 11am to 7pm. Ch
 ristmas Eve hours are 11am to 5pm. Spread the cheer by following @phil
 achristmas on Twitter and Instagram, liking Christmas Village in Phila
 delphia on Facebook and visiting www.philachristmas.com.\n\nFor more i
 nformation visit http://phillytodo.com/events/christmas-village-in-phi
 ladelphia-opening-weekend
DTSTART:20161124T140000Z
DTEND:20161128T000000Z
CATEGORIES:holiday, market
LOCATION:City Hall Courtyard
WEBSITE:http://www.philachristmas.com/events.html
URL:http://www.philachristmas.com/events.html
CONTACT:(215) 268-7606
ORGANIZER:Christmas Village in Philadelphia
ATTACH;FMTTYPE="image/jpeg":http://storage.ning.com/topology/rest/1.0/
 file/get/3055002745?profile=original
ATTENDEE;ROLE=REQ-PARTICIPANT;PARTSTAT=ACCEPTED;RSVP=TRUE;CN="Aversa P
 R & Events":http://phillytodo.com/profile/KoryAversa277
END:VEVENT
END:VCALENDAR
