BEGIN:VCALENDAR
PRODID:NingEventWidget-v1
VERSION:2.0
METHOD:PUBLISH
BEGIN:VEVENT
UID:4320450:Event:56623
DTSTAMP:20260425T145033Z
SUMMARY:Christmas Village in Philadelphia Grand Opening Ceremony
DESCRIPTION:Christmas Village in Philadelphia (Love Park, 1500 JFK Blv
 d.) presents its Grand Opening Ceremony on Sunday, November 25, 2018 f
 rom 3:00pm to 5:00pm. Invite your family and friends to come sing alon
 g to holiday selections by the Camden Catholic High School Band and Cl
 earview Regional High School Choir. Meet the original Christkind from 
 Nuremberg after she officially opens the market by reciting her tradit
 ional prologue. Take photos with her as she does her traditional walk 
 of the market. In Germany, she is the person that brings the Christmas
  gifts to the kids, and she won’t be coming to the City of Brotherly
  Love empty handed! Christmas Village’s Grand Opening Ceremony is fr
 ee and open to all. For more information, visit www.philachristmas.com
 .\n\nFor more information visit http://phillytodo.com/events/christmas
 -village-in-philadelphia-grand-opening-ceremony
DTSTART:20181125T200000Z
DTEND:20181125T220000Z
CATEGORIES:christmas, village
LOCATION:Love Park
WEBSITE:http://www.philachristmas.com/events/christkind-weekend.html
URL:http://www.philachristmas.com/events/christkind-weekend.html
CONTACT:2677746404
ORGANIZER:German American Marketing, Inc.
ATTACH;FMTTYPE="image/jpeg":http://storage.ning.com/topology/rest/1.0/
 file/get/3055016267?profile=original
ATTENDEE;ROLE=REQ-PARTICIPANT;PARTSTAT=ACCEPTED;RSVP=TRUE;CN="Aversa P
 R & Events":http://phillytodo.com/profile/KoryAversa277
END:VEVENT
END:VCALENDAR
