BEGIN:VCALENDAR
PRODID:NingEventWidget-v1
VERSION:2.0
METHOD:PUBLISH
BEGIN:VEVENT
UID:4320450:Event:38790
DTSTAMP:20260425T115301Z
SUMMARY:Christmas Musical at Historic St. George's
DESCRIPTION:Annual Christmas Musical: Temple University Singers, Siste
 r City GirlChoir, Celtic music from the Martin Family and MORE!\n\nFor
  more information visit http://phillytodo.com/events/christmas-musical
 -at-historic-st-george-s
DTSTART:20141207T203000Z
DTEND:20141207T220000Z
CATEGORIES:concert
LOCATION:Old City
WEBSITE:http://www.historicstgeorges.org
URL:http://www.historicstgeorges.org
CONTACT:2159257788
ORGANIZER:St. George's
ATTACH;FMTTYPE="image/jpeg":http://storage.ning.com/topology/rest/1.0/
 file/get/3054980633?profile=original
ATTENDEE;ROLE=REQ-PARTICIPANT;PARTSTAT=ACCEPTED;RSVP=TRUE;CN="Donna Mi
 ller":http://phillytodo.com/profile/DonnaMiller
END:VEVENT
END:VCALENDAR
