BEGIN:VCALENDAR
PRODID:NingEventWidget-v1
VERSION:2.0
METHOD:PUBLISH
BEGIN:VEVENT
UID:4320450:Event:168161
DTSTAMP:20260425T125030Z
SUMMARY:Christmas in July
DESCRIPTION:This summer, head to Chestnut Hill for \"Christmas in July
 ,\" a weekend of shopping and restaurant specials along with holiday-t
 hemed entertainment. Visitors can enjoy Christmas music provided by a 
 brass quartet and carolers and even catch a glimpse of Santa strolling
  along Germantown Avenue. While it may not be December, Chestnut Hill 
 is helping spread holiday cheer and offering shoppers a jump start on 
 the holiday shopping season during the two-day celebration of all thin
 gs Christmas! For the full schedule of entertainment, please visit htt
 ps://chestnuthillpa.com/events/christmas-in-july/. \nTo promote safet
 y and to avoid crowding, customers are encouraged to visit throughout 
 the day to get an early head start on their holiday shopping. \n\nFor
  more information visit http://phillytodo.com/events/christmas-in-july
 -1
DTSTART:20210725T160000Z
DTEND:20210725T220000Z
CATEGORIES:seasonal, festival
LOCATION:Chestnut Hill
WEBSITE:https://chestnuthillpa.com/events/christmas-in-july/
URL:https://chestnuthillpa.com/events/christmas-in-july/
CONTACT:(215) 247-6696
ORGANIZER:Chestnut Hill Business District
ATTACH;FMTTYPE="image/jpeg":https://storage.ning.com/topology/rest/1.0
 /file/get/9190703078?profile=original
ATTENDEE;ROLE=REQ-PARTICIPANT;PARTSTAT=ACCEPTED;RSVP=TRUE;CN="Bryan Ch
 an":http://phillytodo.com/profile/BryanChan
END:VEVENT
END:VCALENDAR
