BEGIN:VCALENDAR
PRODID:NingEventWidget-v1
VERSION:2.0
METHOD:PUBLISH
BEGIN:VEVENT
UID:4320450:Event:38838
DTSTAMP:20260425T115654Z
SUMMARY:Christmas Eve Feast of the Seven Fishes
DESCRIPTION:Join us on Christmas Eve for our annual Feast of the Seven
  Fishes. Enjoy classic seafood dishes such as Seppia in Umido, Frittur
 a di Pesce and Cioppino on Wednesday, December 24th. In addition, Posi
 tano Coast offers a wine pairing option for your dinner so that you an
 d your guests can enjoy 4 complementing Southern Italian Wines with yo
 ur meal. Enjoy the holidays in style with Positano Coast this year! To
  reserve, call us at (215) 238-0499.\n\nFor more information visit htt
 p://phillytodo.com/events/christmas-eve-feast-of-the-seven-fishes
DTSTART:20141224T200000Z
DTEND:20141225T030000Z
CATEGORIES:holidays, christmas, eve, dinner
LOCATION:Old City
WEBSITE:http://www.positanocoast.net
URL:http://www.positanocoast.net
CONTACT:(215) 238-0499
ORGANIZER;CN="Positano Coast":http://phillytodo.com/profile/PositanoCo
 ast
ATTACH;FMTTYPE="image/jpeg":http://storage.ning.com/topology/rest/1.0/
 file/get/3054980434?profile=original
ATTENDEE;ROLE=REQ-PARTICIPANT;PARTSTAT=ACCEPTED;RSVP=TRUE;CN="Positano
  Coast":http://phillytodo.com/profile/PositanoCoast
END:VEVENT
END:VCALENDAR
