BEGIN:VCALENDAR
PRODID:NingEventWidget-v1
VERSION:2.0
METHOD:PUBLISH
BEGIN:VEVENT
UID:4320450:Event:53614
DTSTAMP:20260425T125828Z
SUMMARY:Christmas Brunch at XIX Restaurant
DESCRIPTION:Join Restaurant XIX (Nineteen) for a Christmas Day brunch 
 celebration! After all the presents under the tree are opened head ove
 r to XIX anytime between 11:30am and 1:45pm for an amazing buffet brun
 ch, enhanced with festive Christmas specials. Tickets are $38 for adul
 ts; a kid’s menu is available along with a $20 kid’s buffet option
 . For reservations, call XIX at 215-790-1919. Please mention allergies
  and dietary restrictions upon making a reservation.\n\nFor more infor
 mation visit http://phillytodo.com/events/christmas-brunch-at-xix-rest
 aurant
DTSTART:20171225T163000Z
DTEND:20171225T184500Z
CATEGORIES:christmas, brunch
LOCATION:Hyatt at The Bellevue, XIX (Nineteen) Restaurant
WEBSITE:https://www.hyatt.com/corporate/restaurants/nineteen-restauran
 t/en/home.html
URL:https://www.hyatt.com/corporate/restaurants/nineteen-restaurant/en
 /home.html
CONTACT:
ORGANIZER;CN="Bryan Chan":http://phillytodo.com/profile/BryanChan
ATTACH;FMTTYPE="image/jpeg":http://storage.ning.com/topology/rest/1.0/
 file/get/3055010971?profile=original
ATTENDEE;ROLE=REQ-PARTICIPANT;PARTSTAT=ACCEPTED;RSVP=TRUE;CN="Bryan Ch
 an":http://phillytodo.com/profile/BryanChan
END:VEVENT
END:VCALENDAR
