BEGIN:VCALENDAR
PRODID:NingEventWidget-v1
VERSION:2.0
METHOD:PUBLISH
BEGIN:VEVENT
UID:4320450:Event:52402
DTSTAMP:20260425T132728Z
SUMMARY:Choolah Indian BBQ Grand Opening Weekend
DESCRIPTION:Choolaah Indian BBQ is celebrating their grand opening in 
 the King of Prussia Town Center with a three-day, weekend long event c
 omplete with free giveaways, live entertainment, and much more.\n \nT
 he weekend will kick off with a ceremonial “Naan ripping” followed
  by FREE lunch to the first 100 guests, free samosa giveaways througho
 ut the weekend, and a variety of on-site artists and entertainment. Th
 e weekend is a celebration of Choolaah and their commitment to serving
  the community in every way with 20% of all proceeds from the weekend 
 donated to The Food Trust.\nA full schedule of the Grand Opening weeke
 nd (Sept.15-17) freebies, happenings and event activations:\n Friday,
  September 15th\n\nCeremonial “Naan ripping” (10:30am – 11:00am)
 \n\nFirst 100 guests receive free lunch (Doors open at 11:00am)\n\nFre
 e samples of masalas and beverages throughout the day\n\nFree chocolat
 e truffle with every purchase throughout the day\n\n20% of proceeds do
 nated to The Food Trust  \n\n\nSaturday, September 16th\n\nFree samos
 as with lunch purchase (11:00am – 2:00pm)\n\nEntertainment – India
 n Dance Group Nova Nassa\n\nEntertainment – Henna tattoos and face-p
 ainting (11:00am – 2:00pm)\n\nFree Choolaah sticker handouts through
 out the day\n\n20% of proceeds donated to The Food Trust\n\n\nSunday, 
 September 17th\n\nEntertainment – Choolaah Head caricature artists (
 11:00am – 2:00pm)\n\nFree Choolaah temporary tattoo handouts\n\n20% 
 of proceeds donated to The Food Trust\n\n\n\nFor more information visi
 t http://phillytodo.com/events/choolah-indian-bbq-grand-opening-weeken
 d
DTSTART:20170915T143000Z
DTEND:20170918T010000Z
CATEGORIES:restaurant, opening
LOCATION:Choolah Indian BBq
WEBSITE:https://choolaah.com/
URL:https://choolaah.com/
CONTACT:
ORGANIZER;CN=CashmanAssoc:http://phillytodo.com/profile/CashmanAssoc
ATTACH;FMTTYPE="image/jpeg":http://storage.ning.com/topology/rest/1.0/
 file/get/3055010083?profile=original
ATTENDEE;ROLE=REQ-PARTICIPANT;PARTSTAT=ACCEPTED;RSVP=TRUE;CN=CashmanAs
 soc:http://phillytodo.com/profile/CashmanAssoc
END:VEVENT
END:VCALENDAR
