BEGIN:VCALENDAR
PRODID:NingEventWidget-v1
VERSION:2.0
METHOD:PUBLISH
BEGIN:VEVENT
UID:4320450:Event:168223
DTSTAMP:20260425T143348Z
SUMMARY:Choolaah's Grand Reopening In King of Prussia
DESCRIPTION:Join Choolaah located in the King of Prussia Town Center f
 or its grand reopening on April 26! During its year-long closure due t
 o the pandemic, Choolaah took the time to reimagine the restaurant wit
 h a newly designed layout, new menu items, and the addition of even mo
 re advanced technology to take the guest experience to the next level.
 \n Choolaah is open daily for lunch and dinner (Monday-Sunday 11am-8pm
 )\n\nFor more information visit http://phillytodo.com/events/choolaah-
 s-grand-reopening-in-king-of-prussia
DTSTART:20210426T150000Z
DTEND:20210427T000000Z
CATEGORIES:reopening
LOCATION:Choolaah
WEBSITE:https://choolaah.com/
URL:https://choolaah.com/
CONTACT:4846746316
ORGANIZER;CN=CashmanAssoc:http://phillytodo.com/profile/CashmanAssoc
ATTACH;FMTTYPE="image/jpeg":https://storage.ning.com/topology/rest/1.0
 /file/get/8824264073?profile=original
ATTENDEE;ROLE=REQ-PARTICIPANT;PARTSTAT=ACCEPTED;RSVP=TRUE;CN=CashmanAs
 soc:http://phillytodo.com/profile/CashmanAssoc
END:VEVENT
END:VCALENDAR
