BEGIN:VCALENDAR
PRODID:NingEventWidget-v1
VERSION:2.0
METHOD:PUBLISH
BEGIN:VEVENT
UID:4320450:Event:52068
DTSTAMP:20260425T144258Z
SUMMARY:Chili Competition
DESCRIPTION:Deadline for registration ends on Saturday, September 23! 
  We're having a Chili Competition at the Subaru Fall Festival at Green
 sgrow Farms! We are inviting our neighborhood chili fans to battle it 
 out for the coveted title of Chili Champ. The top three contenders tha
 t stand the heat will win great prizes from Greensgrow and our partner
 s at Subaru! Love eating chili more than making it? Everyone is invite
 d to taste chili from our talented contestants and cast your ballot fo
 r your favorite! To participate as a judge, make a $5 donation to Gree
 nsgrow Farms to help feed our friendly farm animals! You’ll get a so
 uvenir mug and a taste of each chili before you vote.  For more info v
 isit and to register visit: http://www.greensgrow.org/about-us/subaruf
 allfestival/chili-competition/\n\nFor more information visit http://ph
 illytodo.com/events/chili-competition
DTSTART:20171007T151500Z
DTEND:20171007T173000Z
CATEGORIES:festival
LOCATION:Greensgrow Farms
WEBSITE:http://www.greensgrow.org/about-us/subarufallfestival/chili-co
 mpetition/
URL:http://www.greensgrow.org/about-us/subarufallfestival/chili-compet
 ition/
CONTACT:215-427-2780
ORGANIZER;CN="Greensgrow Farms":http://phillytodo.com/profile/Greensgr
 owFarms
ATTACH;FMTTYPE="image/jpeg":http://storage.ning.com/topology/rest/1.0/
 file/get/3055004409?profile=original
ATTENDEE;ROLE=REQ-PARTICIPANT;PARTSTAT=ACCEPTED;RSVP=TRUE;CN="Greensgr
 ow Farms":http://phillytodo.com/profile/GreensgrowFarms
END:VEVENT
END:VCALENDAR
