BEGIN:VCALENDAR
PRODID:NingEventWidget-v1
VERSION:2.0
METHOD:PUBLISH
BEGIN:VEVENT
UID:4320450:Event:58004
DTSTAMP:20260425T163011Z
SUMMARY:Chestnut Home &amp; Garden Festival
DESCRIPTION:Spring is here! Chestnut Hill blossoms into an outdoor gar
 den marketplace as more than 150 home & garden vendors, artists & craf
 tsmen lining Germantown Avenue for the 23rd annual Chestnut Hill Home 
 & Garden Festival. On Sunday, May 5, watch the streets and stores of C
 hestnut Hill bloom with festivities, gorgeous garden displays and exci
 ting activities as visitors explore everything this urban village has 
 to offer. Guests can expect live music and delicious food from Chestnu
 t Hill’s top restaurants while kids enjoy, face-painting, arts and c
 rafts found throughout this free, family-friendly event.\n\nFor more i
 nformation visit http://phillytodo.com/events/chestnut-home-amp-garden
 -festival
DTSTART:20190505T150000Z
DTEND:20190505T210000Z
CATEGORIES:festival
LOCATION:8000 to 8600 Blocks
WEBSITE:http://chestnuthillpa.com
URL:http://chestnuthillpa.com
CONTACT:
ORGANIZER:Chestnut Hill
ATTACH;FMTTYPE="image/jpeg":https://storage.ning.com/topology/rest/1.0
 /file/get/1715950589?profile=original
ATTENDEE;ROLE=REQ-PARTICIPANT;PARTSTAT=ACCEPTED;RSVP=TRUE;CN="Bryan Ch
 an":http://phillytodo.com/profile/BryanChan
END:VEVENT
END:VCALENDAR
