BEGIN:VCALENDAR
PRODID:NingEventWidget-v1
VERSION:2.0
METHOD:PUBLISH
BEGIN:VEVENT
UID:4320450:Event:1770
DTSTAMP:20260425T173558Z
SUMMARY:Chestnut Hill's 2nd Annual Book Festival
DESCRIPTION:Chestnut Hill hosts its second annual book festival July 9
 th to 11th, 2009. This weekend-long event will feature locally and nat
 ionally recognized authors and will include author readings, panel dis
 cussions, writer workshops, poetry, fiction, science-fiction events, a
  singer/songwriter slam, improv and live chess demonstrations. Green E
 ggs & Ham breakfast for kids with an appearance by Cat in the Hat. Lot
 s of fun for the entire family in beautiful Chestnut Hill which was na
 med a 2010 Distinctive Destination by the National Trust for Historic 
 Preservation.\n\nFor more information visit http://phillytodo.com/even
 ts/chestnut-hills-2nd-annual-book
DTSTART:20100709T230000Z
DTEND:20100711T230000Z
CATEGORIES:festival
LOCATION:Stagecrafters Theater and nearby locales
WEBSITE:http://www.chestnuthillpa.com
URL:http://www.chestnuthillpa.com
CONTACT:215-247-6696
ORGANIZER;CN="Peggy Miller":http://phillytodo.com/profile/PeggyMiller
ATTACH;FMTTYPE="image/jpeg":http://storage.ning.com/topology/rest/1.0/
 file/get/3054949759?profile=original
ATTENDEE;ROLE=REQ-PARTICIPANT;PARTSTAT=ACCEPTED;RSVP=TRUE;CN="Peggy Mi
 ller":http://phillytodo.com/profile/PeggyMiller
END:VEVENT
END:VCALENDAR
