BEGIN:VCALENDAR
PRODID:NingEventWidget-v1
VERSION:2.0
METHOD:PUBLISH
BEGIN:VEVENT
UID:4320450:Event:55706
DTSTAMP:20260425T144445Z
SUMMARY:Chestnut Hill's 5th Annual Petapalooza
DESCRIPTION:Spend the day surrounded by some furry, four-legged friend
 s at Chestnut Hill’s Petapalooza 2018. Owners are encouraged to brin
 g their pets to this annual event celebrated for its all things pet at
 mosphere. This event offers activities for both pets and their humans,
  such as raffles, a paw reader, a caricaturist, and a photo booth. The
  fan favorite “Yappy Hour” will also return, which includes drink 
 and food specials at select restaurants. In search of a furry companio
 n? Pet rescue organizations will be on site with animals looking for f
 orever homes! Don’t miss out on this daylong event that’s sure to 
 entertain both animals and their owners alike.\n\nFor more information
  visit http://phillytodo.com/events/chestnut-hill-s-5th-annual-petapal
 ooza
DTSTART:20180708T160000Z
DTEND:20180708T190000Z
CATEGORIES:family-friendly, event
LOCATION:Chestnut Hill
WEBSITE:https://chestnuthillpa.com/events/fourth-annual-petapalooza/
URL:https://chestnuthillpa.com/events/fourth-annual-petapalooza/
CONTACT:
ORGANIZER;CN="Bryan Chan":http://phillytodo.com/profile/BryanChan
ATTACH;FMTTYPE="image/jpeg":
ATTENDEE;ROLE=REQ-PARTICIPANT;PARTSTAT=ACCEPTED;RSVP=TRUE;CN="Bryan Ch
 an":http://phillytodo.com/profile/BryanChan
END:VEVENT
END:VCALENDAR
