BEGIN:VCALENDAR
PRODID:NingEventWidget-v1
VERSION:2.0
METHOD:PUBLISH
BEGIN:VEVENT
UID:4320450:Event:54618
DTSTAMP:20260425T125001Z
SUMMARY:Chestnut Hill Restaurant Week
DESCRIPTION:Chestnut Hill Winter Restaurant Week returns for the first
  time since 2014! Over the course of six days (from February 25-March 
 2), 15 restaurants throughout the neighborhood will offer a dinner din
 ing excursion for $35 (offer may vary depending on restaurant). Diners
  looking to taste the best in global cuisine can head to Paris Bistro,
  El Poquito, Cin Cin, Thai Kuu, Banjara, and Osaka. For classic comfor
 t dishes head to Tavern on the Hill, McNally’s, Campbell’s Place, 
 Iron Hill Brewery, or Chestnut Grill. Those who enjoy pairing their ow
 n beverage of choice with dinner can head to Mica and Tradewinds BYOB.
  Or, for a part pastoral setting, take a trip out to Valley Green Inn.
  Reservations are highly encouraged.\n\nFor more information visit htt
 p://phillytodo.com/events/chestnut-hill-restaurant-week-1
DTSTART:20180225T220000Z
DTEND:20180303T030000Z
CATEGORIES:restaurant, week
LOCATION:Chestnut Hill Business District
WEBSITE:http://www.chestnuthillpa.com
URL:http://www.chestnuthillpa.com
CONTACT:
ORGANIZER;CN="Bryan Chan":http://phillytodo.com/profile/BryanChan
ATTACH;FMTTYPE="image/jpeg":http://storage.ning.com/topology/rest/1.0/
 file/get/3055013331?profile=original
ATTENDEE;ROLE=REQ-PARTICIPANT;PARTSTAT=ACCEPTED;RSVP=TRUE;CN="Bryan Ch
 an":http://phillytodo.com/profile/BryanChan
END:VEVENT
END:VCALENDAR
