BEGIN:VCALENDAR
PRODID:NingEventWidget-v1
VERSION:2.0
METHOD:PUBLISH
BEGIN:VEVENT
UID:4320450:Event:57106
DTSTAMP:20260425T112434Z
SUMMARY:Chestnut Hill On Ice
DESCRIPTION:Beat the winter blues and head to Germantown Avenue for tw
 o days of ice-themed attractions, including a pop-up skating rink, liv
 e ice carving, the yurt village, and an ice bar. Chestnut Hill On Ice 
 is free to attend, with pay-as-you-go activities for all ages. Don’t
  miss out on the return of world-renowned ice sculptor Peter Slavin an
 d Philadelphia’s own Ice Sculpture Philly combined with cold weather
  activities, cozy comforts, restaurant/retail specials, and more.\n\nF
 or more information visit http://phillytodo.com/events/chestnut-hill-o
 n-ice
DTSTART:20190201T220000Z
DTEND:20190203T020000Z
CATEGORIES:family, fun
LOCATION:Chestnut Hill's Visitors Center
WEBSITE:https://chestnuthillpa.com/chestnut-hill-on-ice/
URL:https://chestnuthillpa.com/chestnut-hill-on-ice/
CONTACT:215-247-6696
ORGANIZER;CN="Bryan Chan":http://phillytodo.com/profile/BryanChan
ATTACH;FMTTYPE="image/jpeg":https://storage.ning.com/topology/rest/1.0
 /file/get/757247808?profile=original
ATTENDEE;ROLE=REQ-PARTICIPANT;PARTSTAT=ACCEPTED;RSVP=TRUE;CN="Bryan Ch
 an":http://phillytodo.com/profile/BryanChan
END:VEVENT
END:VCALENDAR
