BEGIN:VCALENDAR
PRODID:NingEventWidget-v1
VERSION:2.0
METHOD:PUBLISH
BEGIN:VEVENT
UID:4320450:Event:31464
DTSTAMP:20260425T161311Z
SUMMARY:Chestnut Hill Home & Garden Festival
DESCRIPTION:Chestnut Hill will be  transformed into a colorful outdoo
 r marketplace when its 17th Annual Home & Garden Festival takes place 
 on Sunday, May 5th.  Orchids, flowering baskets, heirloom tomato plan
 ts, garden sculpture and furniture, arts, crafts, and home goods will 
 be featured.  There will also be bee hives, terrariums and other gard
 en related products.  Live music on two stages, delicious foods from 
 the restaurants of Chestnut Hill, amusement rides for children, hula h
 oop demonstrations, free train rides & art activities for kids and eve
 n a motorcycle show will be part of the festivities.  Admission to th
 e festival is free.\n\nFor more information visit http://phillytodo.co
 m/events/chestnut-hill-home-garden-festival
DTSTART:20130505T150000Z
DTEND:20130505T210000Z
CATEGORIES:festival
LOCATION:Chestnut Hill, Philadelphia
WEBSITE:http://www.chestnuthillpa.com
URL:http://www.chestnuthillpa.com
CONTACT:2152476696
ORGANIZER:Chestnut Hill Business Association
ATTACH;FMTTYPE="image/jpeg":http://storage.ning.com/topology/rest/1.0/
 file/get/3054963318?profile=original
ATTENDEE;ROLE=REQ-PARTICIPANT;PARTSTAT=ACCEPTED;RSVP=TRUE;CN="Peggy Mi
 ller":http://phillytodo.com/profile/PeggyMiller
END:VEVENT
END:VCALENDAR
