BEGIN:VCALENDAR
PRODID:NingEventWidget-v1
VERSION:2.0
METHOD:PUBLISH
BEGIN:VEVENT
UID:4320450:Event:168135
DTSTAMP:20260425T123604Z
SUMMARY:Chestnut Hill Home and Garden Stroll
DESCRIPTION:The family-friendly outdoor annual Chestnut Hill Home and 
 Garden Stroll returns with updates guidelines to ensure the safety of 
 visitors while perusing home and garden goods in Philadelphia’s Gard
 en District. Browse a variety of local vendors featuring furniture, je
 welry, terrariums, plants, and garden displays amongst other events, i
 ncluding children’s activities, live music, and specials at local re
 staurants. Visitors will also be able to purchase heirloom vegetable p
 lants, flowers, honey, and other local flora.\nAll visitors are requir
 ed to wear a face covering over both nose and mouth while visiting ind
 oor locations, individual businesses, and outdoor display areas. Socia
 l distancing guidelines will be enforced.\n\nFor more information visi
 t http://phillytodo.com/events/chestnut-hill-home-amp-garden-stroll
DTSTART:20210502T150000Z
DTEND:20210502T210000Z
CATEGORIES:community, festival
LOCATION:Chestnut Hill
WEBSITE:https://chestnuthillpa.com/events/homeandgarden/
URL:https://chestnuthillpa.com/events/homeandgarden/
CONTACT:(215) 247-6696
ORGANIZER:Chestnut Hill Business District
ATTACH;FMTTYPE="image/jpeg":https://storage.ning.com/topology/rest/1.0
 /file/get/8772837480?profile=original
ATTENDEE;ROLE=REQ-PARTICIPANT;PARTSTAT=ACCEPTED;RSVP=TRUE;CN="Bryan Ch
 an":http://phillytodo.com/profile/BryanChan
END:VEVENT
END:VCALENDAR
