BEGIN:VCALENDAR
PRODID:NingEventWidget-v1
VERSION:2.0
METHOD:PUBLISH
BEGIN:VEVENT
UID:4320450:Event:43154
DTSTAMP:20260425T173516Z
SUMMARY:Chestnut Hill Holiday Parade
DESCRIPTION:Marching bands, floats, antique cars, school groups and of
  course Santa parade down Germantown Avenue in true holiday style.\n\n
 For more information visit http://phillytodo.com/events/chestnut-hill-
 holiday-parade
DTSTART:20151212T140000Z
DTEND:20151212T160000Z
CATEGORIES:holiday, event
LOCATION:Chestnut Hill Area
WEBSITE:http://www.chestnuthillpa.com
URL:http://www.chestnuthillpa.com
CONTACT:215-247-6696
ORGANIZER:Chestnut Hill Business Association
ATTACH;FMTTYPE="image/jpeg":http://storage.ning.com/topology/rest/1.0/
 file/get/3054990144?profile=original
ATTENDEE;ROLE=REQ-PARTICIPANT;PARTSTAT=ACCEPTED;RSVP=TRUE;CN="Bryan Ch
 an":http://phillytodo.com/profile/BryanChan
END:VEVENT
END:VCALENDAR
