BEGIN:VCALENDAR
PRODID:NingEventWidget-v1
VERSION:2.0
METHOD:PUBLISH
BEGIN:VEVENT
UID:4320450:Event:51771
DTSTAMP:20260425T165731Z
SUMMARY:Chestnut Hill Holiday Parade &amp; Sugar Plum Saturday
DESCRIPTION:Join the Chestnut Hill community on December 16th for a ho
 liday parade in celebration of the most wonderful time of the year! St
 arting at 9 AM, the parade will make its way through Chestnut Hill, br
 inging holiday cheer with the help of live entertainment, floats, and 
 an appearance from Santa Claus! After the parade concludes, Sugar Plum
  Saturday picks up the festivities from 10 AM to 3 PM with even more s
 weets, activities, and holiday fun including photo opps with Santa and
  holiday shopping.\n\nFor more information visit http://phillytodo.com
 /events/chestnut-hill-holiday-parade-amp-sugar-plum-saturday
DTSTART:20171216T140000Z
DTEND:20171216T200000Z
CATEGORIES:holiday, parade, and, festival
LOCATION:Chestnut Hill
WEBSITE:http://www.chestnuthillpa.com
URL:http://www.chestnuthillpa.com
CONTACT:
ORGANIZER:
ATTACH;FMTTYPE="image/jpeg":http://storage.ning.com/topology/rest/1.0/
 file/get/3055006298?profile=original
ATTENDEE;ROLE=REQ-PARTICIPANT;PARTSTAT=ACCEPTED;RSVP=TRUE;CN="Bryan Ch
 an":http://phillytodo.com/profile/BryanChan
END:VEVENT
END:VCALENDAR
