BEGIN:VCALENDAR
PRODID:NingEventWidget-v1
VERSION:2.0
METHOD:PUBLISH
BEGIN:VEVENT
UID:4320450:Event:58102
DTSTAMP:20260425T112617Z
SUMMARY:Chestnut Hill First Fridays
DESCRIPTION:Philadelphia’s Garden District springs to life this seas
 on with First Friday Events in Chestnut Hill. Celebrate the weekend wi
 th extended store hours, shopping & dining specials, fun activities, e
 ntertainment, and more.\n\nFor more information visit http://phillytod
 o.com/events/chestnut-hill-first-fridays
DTSTART:20190503T210000Z
DTEND:20191207T010000Z
CATEGORIES:festival
LOCATION:Chestnut Hill
WEBSITE:http://www.chestnuthillpa.com
URL:http://www.chestnuthillpa.com
CONTACT:
ORGANIZER;CN="Bryan Chan":http://phillytodo.com/profile/BryanChan
ATTACH;FMTTYPE="image/jpeg":https://storage.ning.com/topology/rest/1.0
 /file/get/1715959546?profile=original
ATTENDEE;ROLE=REQ-PARTICIPANT;PARTSTAT=ACCEPTED;RSVP=TRUE;CN="Bryan Ch
 an":http://phillytodo.com/profile/BryanChan
END:VEVENT
END:VCALENDAR
