BEGIN:VCALENDAR
PRODID:NingEventWidget-v1
VERSION:2.0
METHOD:PUBLISH
BEGIN:VEVENT
UID:4320450:Event:58409
DTSTAMP:20260425T124916Z
SUMMARY:Chestnut Hill First Friday
DESCRIPTION:EXPLORE UNIQUE BOUTIQUE SHOPS ALONG GERMANTOWN AVENUE UNTI
 L 8:00 PM, AND ENJOY LOCAL FLAVORS AT YOUR FAVORITE RESTAURANTS. DONâ€
 ™T MISS FRIDAY NIGHT JAZZ AT WOODMERE ART MUSEUM, EXTENDED HOURS AT OU
 R GALLERIES. NO PLACE DOES FRIDAY LIKE THE HILL!\n\nFor more informati
 on visit http://phillytodo.com/events/chestnut-hill-first-friday
DTSTART:20190607T210000Z
DTEND:20190608T000000Z
CATEGORIES:open
LOCATION:Chestnut Hill
WEBSITE:http://chestnuthillpa.com
URL:http://chestnuthillpa.com
CONTACT:
ORGANIZER;CN="Bryan Chan":http://phillytodo.com/profile/BryanChan
ATTACH;FMTTYPE="image/jpeg":https://storage.ning.com/topology/rest/1.0
 /file/get/1715959546?profile=original
ATTENDEE;ROLE=REQ-PARTICIPANT;PARTSTAT=ACCEPTED;RSVP=TRUE;CN="Bryan Ch
 an":http://phillytodo.com/profile/BryanChan
END:VEVENT
END:VCALENDAR
