BEGIN:VCALENDAR
PRODID:NingEventWidget-v1
VERSION:2.0
METHOD:PUBLISH
BEGIN:VEVENT
UID:4320450:Event:2133
DTSTAMP:20260425T142535Z
SUMMARY:Chestnut Hill Fall for the Arts Festival
DESCRIPTION:Staged along historic Germantown Avenue in Chestnut Hill, 
 the Fall for the Arts Festival features over 150 fine artists and craf
 tsmen displaying their wares against the backdrop of beautiful turn-of
 -the-century buildings. The festival also includes live music on two s
 tages; a \"Taste of Chestnut Hill\" featuring foods from our local res
 taurants; art demonstrations; children's rides and activities; boutiqu
 e shopping; and multiple art and entertainment venues. A fun day for t
 he entire family and the perfect way to celebrate fall!\n\nFor more in
 formation visit http://phillytodo.com/events/chestnut-hill-fall-for-th
 e
DTSTART:20101010T150000Z
DTEND:20101010T210000Z
CATEGORIES:outdoor, festival
LOCATION:8000 to 8600 Germantown Avenue
WEBSITE:http://www.chestnuthillpa.com/events/fall-for-the-arts-festiva
 l
URL:http://www.chestnuthillpa.com/events/fall-for-the-arts-festival
CONTACT:215-247-6696
ORGANIZER:Chestnut Hill Business Association
ATTACH;FMTTYPE="image/jpeg":http://storage.ning.com/topology/rest/1.0/
 file/get/3054950760?profile=original
ATTENDEE;ROLE=REQ-PARTICIPANT;PARTSTAT=ACCEPTED;RSVP=TRUE;CN="Peggy Mi
 ller":http://phillytodo.com/profile/PeggyMiller
END:VEVENT
END:VCALENDAR
