BEGIN:VCALENDAR
PRODID:NingEventWidget-v1
VERSION:2.0
METHOD:PUBLISH
BEGIN:VEVENT
UID:4320450:Event:28211
DTSTAMP:20260425T162829Z
SUMMARY:Chestnut Hill Fall for the Arts Festival
DESCRIPTION:Chestnut Hill's Fall for the Arts Festival is a celebratio
 n of autumn and the arts, with more than 150 talented artists and craf
 atspeople exhibiting their works along historic Germantown Avenue. Fes
 tival-goers can enjoy live music on two stages, with performances by T
 he Dukes of Destiny, The Rich Posmontier Orchestra, Zydeco a Go Go, an
 d 56 Men. Al fresco dining is a highlight of the festival with delicio
 us foods served by the restaurants of Chestnut Hill. Kids can create t
 heir own works of art, hop aboard a free kids train ride, climb a rock
  wall or enjoy a variety of amusement rides and games. Great fun for t
 he entire family!\n\nFor more information visit http://phillytodo.com/
 events/chestnut-hill-fall-for-the-arts-festival
DTSTART:20121014T150000Z
DTEND:20121014T210000Z
CATEGORIES:festival
LOCATION:Chestnut Hill Business Association
WEBSITE:http://www.chestnuthillpa.com
URL:http://www.chestnuthillpa.com
CONTACT:215-247-6696
ORGANIZER:The Shops & Restaurants of Chestnut Hill
ATTACH;FMTTYPE="image/jpeg":http://storage.ning.com/topology/rest/1.0/
 file/get/3054960583?profile=original
ATTENDEE;ROLE=REQ-PARTICIPANT;PARTSTAT=ACCEPTED;RSVP=TRUE;CN="Peggy Mi
 ller":http://phillytodo.com/profile/PeggyMiller
END:VEVENT
END:VCALENDAR
