BEGIN:VCALENDAR
PRODID:NingEventWidget-v1
VERSION:2.0
METHOD:PUBLISH
BEGIN:VEVENT
UID:4320450:Event:56026
DTSTAMP:20260425T142957Z
SUMMARY:Chestnut Hill Fall for the Arts Festival
DESCRIPTION:This year, more than 150 artists and crafters from across 
 the Mid-Atlantic region (and as far away as Hawaii) will line nearly 1
 0 blocks of Germantown Avenue displaying works in oils, watercolors, s
 culpture, photography, drawings, and fine crafts. Also returning for 2
 018, the Makers Village will celebrate both the beauty of completed ar
 t pieces as well as the act of creating them. Makers Village invites a
 ttendees of all ages to experience the joy of \"creating\" with intera
 ctive activities along with demonstrations in stained glass, weaving, 
 glass blowing, beading, jewelry making, yarn bombing, live painting, a
 nd more. The festival will also offer live entertainment on two stages
 , al fresco dining and festival foods, shopping along the avenue, amus
 ement rides, and family-friendly activities.\n\nFor more information v
 isit http://phillytodo.com/events/chestnut-hill-fall-for-the-arts-fest
 ival-2
DTSTART:20180930T150000Z
DTEND:20180930T210000Z
CATEGORIES:festival
LOCATION:Chestnut Hill
WEBSITE:https://chestnuthillpa.com/events/fall-arts-festival-2018/
URL:https://chestnuthillpa.com/events/fall-arts-festival-2018/
CONTACT:2158678060
ORGANIZER;CN="Bryan Chan":http://phillytodo.com/profile/BryanChan
ATTACH;FMTTYPE="image/jpeg":http://storage.ning.com/topology/rest/1.0/
 file/get/3055014893?profile=original
ATTENDEE;ROLE=REQ-PARTICIPANT;PARTSTAT=ACCEPTED;RSVP=TRUE;CN="Bryan Ch
 an":http://phillytodo.com/profile/BryanChan
END:VEVENT
END:VCALENDAR
