BEGIN:VCALENDAR
PRODID:NingEventWidget-v1
VERSION:2.0
METHOD:PUBLISH
BEGIN:VEVENT
UID:4320450:Event:58709
DTSTAMP:20260425T132727Z
SUMMARY:Chestnut Hill 6th Annual Petapalooza
DESCRIPTION:Spend the late afternoon surrounded by some furry, four-le
 gged friends at Chestnut Hill’s Petapalooza 2019. Owners are encoura
 ged to bring their pets to this annual event celebrated for its all th
 ings pet atmosphere. This event offers activities for both pets and th
 eir humans, such as raffles, a paw reader, dog parkour, a caricaturist
 , and a photo booth. The fan favorite “Yappy Hour” will also retur
 n, which includes drink and food specials at select restaurants. In se
 arch of a furry companion? Pet rescue organizations will be on site wi
 th animals looking for forever homes! Don’t miss out on this event t
 hat’s sure to entertain both animals and their owners alike.\n \nTh
 is year, Petapalooza falls on a First Friday in Chestnut Hill which me
 ans unique boutique shops along Germantown Avenue stay open late!\n \
 nVisit chestnuthillpa.com for more details!\n\nFor more information vi
 sit http://phillytodo.com/events/chestnut-hill-6th-annual-petapalooza
DTSTART:20190607T210000Z
DTEND:20190608T000000Z
CATEGORIES:pets
LOCATION:Chestnut Hill
WEBSITE:http://chestnuthillpa.com/events/petapalooza-2019/
URL:http://chestnuthillpa.com/events/petapalooza-2019/
CONTACT:
ORGANIZER;CN="Bryan Chan":http://phillytodo.com/profile/BryanChan
ATTACH;FMTTYPE="image/jpeg":https://storage.ning.com/topology/rest/1.0
 /file/get/2647825023?profile=original
ATTENDEE;ROLE=REQ-PARTICIPANT;PARTSTAT=ACCEPTED;RSVP=TRUE;CN="Bryan Ch
 an":http://phillytodo.com/profile/BryanChan
END:VEVENT
END:VCALENDAR
