BEGIN:VCALENDAR
PRODID:NingEventWidget-v1
VERSION:2.0
METHOD:PUBLISH
BEGIN:VEVENT
UID:4320450:Event:31599
DTSTAMP:20260425T124918Z
SUMMARY:Chess Club
DESCRIPTION:Jules Hernadi of Lansdowne, and Mr. Bhoke Lumumba from Pen
 n Wood Middle Schoollead our Chess Club. All levels welcome.  Learn n
 ew strategies, increase brain power and just have fun. \n\nFor more i
 nformation visit http://phillytodo.com/events/chess-club-2
DTSTART:20130427T170000Z
DTEND:20130427T190000Z
CATEGORIES:chess, games, clubs
LOCATION:Lansdowne Public Library
WEBSITE:http://www.lansdownepubliclibrary.com/
URL:http://www.lansdownepubliclibrary.com/
CONTACT:610-623-0239
ORGANIZER;CN="Lansdowne Public Library":http://phillytodo.com/profile/
 LansdownePublicLibrary
ATTACH;FMTTYPE="image/jpeg":http://storage.ning.com/topology/rest/1.0/
 file/get/3054963249?profile=original
ATTENDEE;ROLE=REQ-PARTICIPANT;PARTSTAT=ACCEPTED;RSVP=TRUE;CN="Lansdown
 e Public Library":http://phillytodo.com/profile/LansdownePublicLibrary
END:VEVENT
END:VCALENDAR
