BEGIN:VCALENDAR
PRODID:NingEventWidget-v1
VERSION:2.0
METHOD:PUBLISH
BEGIN:VEVENT
UID:4320450:Event:57801
DTSTAMP:20260425T111738Z
SUMMARY:Cherry Street Indoor / Outdoor Vintage Flea Market
DESCRIPTION:2 Vintage Flea Markets Side By Side This Sat, March 30th\n
 Indoors On The Cherry Street Pier & Outdoors On The Race Street Pier\n
 121 N. Columbus Blvd (Where Race Street Meets The River)\n8AM til 7PM\
 nMore Than 75 Vendors\nFree Admission!\n\"Come Spend The Day Shopping 
 On The River With Us\"\n215 - 625 - FLEA (3532)\nwww.PhilaFleaMarkets.
 org\n\nFor more information visit http://phillytodo.com/events/cherry-
 street-indoor-outdoor-vintage-flea-market
DTSTART:20190330T120000Z
DTEND:20190330T230000Z
CATEGORIES:vintage, flea, market
LOCATION:Cherry Street Pier
WEBSITE:http://www.PhilaFleaMarkets.org
URL:http://www.PhilaFleaMarkets.org
CONTACT:215 - 625 - 3532
ORGANIZER;CN="Phila Flea Markets":http://phillytodo.com/profile/PhilaF
 leaMarkets
ATTACH;FMTTYPE="image/jpeg":
ATTENDEE;ROLE=REQ-PARTICIPANT;PARTSTAT=ACCEPTED;RSVP=TRUE;CN="Phila Fl
 ea Markets":http://phillytodo.com/profile/PhilaFleaMarkets
END:VEVENT
END:VCALENDAR
