BEGIN:VCALENDAR
PRODID:NingEventWidget-v1
VERSION:2.0
METHOD:PUBLISH
BEGIN:VEVENT
UID:4320450:Event:167988
DTSTAMP:20260425T161425Z
SUMMARY:Cherry Hill Mall Bridal Show Presented By Bridal Showcases
DESCRIPTION:Calling all Brides & Grooms to Cherry Hill Mall!\nStop by 
 Cherry Hill Mall for its Annual Bridal Show, presented by Bridal Showc
 ases! From 12pm-5pm over 30 vendors will be at your disposal for one-s
 top shopping to make your special day everything and more! All attende
 es will receive a prize and generous discount from participating vendo
 rs. With DJ and Musician showcases, Tuxedo and Bridal fashions, food a
 nd cake samplings, vacation packages, and other accommodations, that W
 edding To Do list will become much smaller.\n\nFor more information vi
 sit http://phillytodo.com/events/cherry-hill-mall-bridal-show-presente
 d-by-bridal-showcases
DTSTART:20210411T160000Z
DTEND:20210411T210000Z
CATEGORIES:bridal, expo
LOCATION:Cherry Hill Mall
WEBSITE:https://cherryhillmall.com/directions/
URL:https://cherryhillmall.com/directions/
CONTACT:
ORGANIZER:
ATTACH;FMTTYPE="image/jpeg":https://storage.ning.com/topology/rest/1.0
 /file/get/8772609286?profile=original
ATTENDEE;ROLE=REQ-PARTICIPANT;PARTSTAT=ACCEPTED;RSVP=TRUE;CN=CashmanAs
 soc:http://phillytodo.com/profile/CashmanAssoc
END:VEVENT
END:VCALENDAR
