BEGIN:VCALENDAR
PRODID:NingEventWidget-v1
VERSION:2.0
METHOD:PUBLISH
BEGIN:VEVENT
UID:4320450:Event:38337
DTSTAMP:20260425T142545Z
SUMMARY:Chefs Dinner for PAWS
DESCRIPTION:*Images Available\nFOR IMMEDIATE RELEASE Â Â Â Â Â Â Â Â Â
  Â Â Â Â Â Â Â Â Â Â Â Â Â Â Â Â Â Â Â Â Â Â Â Â Â Â Â Â \nContact:\nA
 nny Deirmenjian\nDavioâ€™s Northern Italian Steakhouse\nanny@davios.co
 m\n215.375.4126Â \nÂ \n10thÂ Annual Chefsâ€™ Dinner for PAWS\nÂ \nÂ \n
 WHAT:Â Â Â Â Â Â Â Â TheÂ Chefsâ€™ Dinner for PAWSÂ is a one-of-a-kind
  evening of food, fun and excitement where the cityâ€™s best chefs cre
 ate aÂ 3-course food and wine pairingsÂ tableside for 12 guests each.Â
  More than 50 of the regionâ€™s best chefs, restaurant and purveyorsÂ 
 will create an extraordinary experience for our guests onÂ Monday, Sep
 tember 15th, 2014Â atÂ 6:00 PMÂ at theÂ Lincoln Financial Field.\nÂ \n
 The special event will take guests on a culinary tour starting with co
 cktails, provided by 8 superb restaurants and purveyors, to the chefsâ
 €™ pods for an evening of fantastic food and great wine. The high styl
 e event showcases the talents of the regionâ€™s top chefs from celebra
 ted dining destinations. Each chef will present an intimate, unique an
 d unforgettable experience for their table, who will have the opportun
 ity to meet-and-greet the participating culinary masters while tasting
  decadent creations prepared personally for them. Among this yearâ€™s 
 participating chefs areÂ Top Chef Winner Kevin Sbraga, ofÂ Sbraga,Â Ch
 ef Townsend Wentz, ofÂ Townsend,Â Chef Chip RomanÂ ofÂ BlackfishÂ andÂ
  Chef Chris TavaresÂ ofÂ Davioâ€™s Northern Italian Steakhouse. The ev
 eningâ€™s festivities come to a close with a dessert and cordial loung
 e, presented by 7 specialty bakeries and gelato makers, where guests c
 an meet all of the celebrity chefs and recount their culinary experien
 ces while dancing to music provided byÂ DJ Ed Tully.\nÂ \nThe Chefsâ€™
  Dinner is the singular event of the year that brings chefs and patron
 s together for an interactive evening of food, fun and fundraising. Ch
 efs and guests rave about their experience at each yearâ€™s event. The
  intimate setting and personal attention from each chef provides an in
 siderâ€™s view of the nationâ€™s more prestigious kitchens. All procee
 ds benefit PAWSâ€™ newestÂ Adoption Center and Spay/Neuter and Wellnes
 s Clinic, located in Northeast Philadelphia. For more information on p
 articipating chefs and restaurants, and ticket reservations, please vi
 sitwww.phillypaws.org/chefsdinner.\nÂ \n\nWHERE:Â Â Â Â Â  Lincoln Fin
 ancial Field | SCA Club Level\nWHEN:Â Â Â Â Â Â Â Â Â Â Â Monday, Sept
 ember 15th, 2014 at 6:00 PM.\nCOST:Â Â Â Â Â Â Â Â Â $350 per guest ($
 275 is tax-deductible).\n###\n\nFor more information visit http://phil
 lytodo.com/events/chefs-dinner-for-paws
DTSTART:20140915T220000Z
DTEND:20140916T034500Z
CATEGORIES:fundraiser, special, event, restaurants, food, and, wine
LOCATION:Lincoln Financial Field SCA Level
WEBSITE:http://www.phillypaws.org/chefsdinner
URL:http://www.phillypaws.org/chefsdinner
CONTACT:
ORGANIZER:PAWS Philadelphia
ATTACH;FMTTYPE="image/jpeg":
ATTENDEE;ROLE=REQ-PARTICIPANT;PARTSTAT=ACCEPTED;RSVP=TRUE;CN="Juliette
  V":http://phillytodo.com/profile/JulietteV
END:VEVENT
END:VCALENDAR
