BEGIN:VCALENDAR
PRODID:NingEventWidget-v1
VERSION:2.0
METHOD:PUBLISH
BEGIN:VEVENT
UID:4320450:Event:54834
DTSTAMP:20260425T130444Z
SUMMARY:Cheese 101
DESCRIPTION:Learn how to select cheeses for a cheese board and make pa
 iring suggestions with Alex Jones from Collective Creamery.  She will
  walk you through an all local cheese tasting (yum) and discuss the be
 st practices for evaluating, tasting, storing and serving cheese. We w
 ill cover the issues surrounding grass-fed dairy, and talk about the i
 mportance of supporting local cheese makers.\nAlex Jones is a cheesemo
 nger, writer, food educator, and regional food systems advocate who ha
 s been working with farmers and artisans in Pennsylvania for the past 
 seven years. She sells cheese for Valley Milkhouse Creamery and is one
 -third of the team behind Collective Creamery, a women-powered artisan
  cheese subscription based in southeast Pennsylvania. Alex is a contri
 buting writer for Foobooz.com and has written for CivilEats.com, Billy
 Penn.com, CiderCulture.com, Edible Philly, Edible Jersey, and Grid. Sh
 e teaches cheese appreciation and pairing as well as home cheesemaking
  in and around Philadelphia.\n\nFor more information visit http://phil
 lytodo.com/events/cheese-101
DTSTART:20180317T160000Z
DTEND:20180317T180000Z
CATEGORIES:workshop
LOCATION:Greensgrow Community Kitchen at St. Michael’s Lutheran Chur
 ch
WEBSITE:http://www.greensgrow.org/event/cheese/
URL:http://www.greensgrow.org/event/cheese/
CONTACT:
ORGANIZER;CN="Greensgrow Farms":http://phillytodo.com/profile/Greensgr
 owFarms
ATTACH;FMTTYPE="image/jpeg":
ATTENDEE;ROLE=REQ-PARTICIPANT;PARTSTAT=ACCEPTED;RSVP=TRUE;CN="Greensgr
 ow Farms":http://phillytodo.com/profile/GreensgrowFarms
END:VEVENT
END:VCALENDAR
