BEGIN:VCALENDAR
PRODID:NingEventWidget-v1
VERSION:2.0
METHOD:PUBLISH
BEGIN:VEVENT
UID:4320450:Event:23139
DTSTAMP:20260425T175714Z
SUMMARY:Cheers to the New Year at Del Frisco's Double Eagle Steak Hous
 e in Center City Philadelphia
DESCRIPTION:Come enjoy New Years Eve at it's Finest!  \nFeaturing a 
 8oz Filet & 8oz Lobster Tail for $69. Combined with their impressive c
 hampagne list it’s the perfect place to ring in 2012. Make reservati
 ons now while there's still room!  \nFor more information got to: ht
 tp://delfriscos.com/whats_happening.php\n\n\nFor more information visi
 t http://phillytodo.com/events/cheers-tot-he-new-year-at-del-frisco-s-
 double-eagle-steak-house
DTSTART:20111231T050000Z
DTEND:20120101T045900Z
CATEGORIES:"new years eve special"
LOCATION:Del Frisco's Double Eagle Steak House Center City Philadelphi
 a
WEBSITE:http://delfriscos.com/whats_happening.php
URL:http://delfriscos.com/whats_happening.php
CONTACT:(215) 246 0533
ORGANIZER:Rich Furino, General Manager
ATTACH;FMTTYPE="image/jpeg":http://storage.ning.com/topology/rest/1.0/
 file/get/3054958094?profile=original
ATTENDEE;ROLE=REQ-PARTICIPANT;PARTSTAT=ACCEPTED;RSVP=TRUE;CN="Lauren W
 enzel":http://phillytodo.com/profile/JacklinRhoads
END:VEVENT
END:VCALENDAR
