BEGIN:VCALENDAR
PRODID:NingEventWidget-v1
VERSION:2.0
METHOD:PUBLISH
BEGIN:VEVENT
UID:4320450:Event:39952
DTSTAMP:20260425T144253Z
SUMMARY:Chat Snaps with HughE Dillon
DESCRIPTION:Join us for an evening of light bites and refreshments to 
 view HughE Dilllon’s most famous photographs.  Suggested donation a
 t the door with proceeds benefiting the Linda Creed Breast Cancer Foun
 dation.\n\nFor more information visit http://phillytodo.com/events/cha
 t-snaps-with-hughe-dillon
DTSTART:20150224T220000Z
DTEND:20150225T000000Z
CATEGORIES:photography, gallery
LOCATION:The Market & Shops at Comcast Center
WEBSITE:https://www.facebook.com/events/1603404229892437/
URL:https://www.facebook.com/events/1603404229892437/
CONTACT:215-627-1060
ORGANIZER:The Market & Shops at Comcast Center
ATTACH;FMTTYPE="image/jpeg":http://storage.ning.com/topology/rest/1.0/
 file/get/3054987366?profile=original
ATTENDEE;ROLE=REQ-PARTICIPANT;PARTSTAT=ACCEPTED;RSVP=TRUE;CN=CashmanAs
 soc:http://phillytodo.com/profile/CashmanAssoc
END:VEVENT
END:VCALENDAR
