BEGIN:VCALENDAR
PRODID:NingEventWidget-v1
VERSION:2.0
METHOD:PUBLISH
BEGIN:VEVENT
UID:4320450:Event:56069
DTSTAMP:20260425T114106Z
SUMMARY:Charlotte's Web
DESCRIPTION:Join us for the heart-warming story of a special friendshi
 p between a lovable pig and everyone’s favorite spider. Wilbur, Char
 lotte and their barnyard friends have never been more delightful than 
 in this wonderful tribute to one of the greatest stories for children 
 ever written.\nShowtimes:\n \nMonday: No Shows\nTuesdays, Wednesdays,
  and Thursdays: 10 am\nFridays: 10 am and 7 pm shows\nSaturdays and Su
 ndays: 12pm and 4pm\n\nFor more information visit http://phillytodo.co
 m/events/charlotte-s-web
DTSTART:20181206T150000Z
DTEND:20190203T170000Z
CATEGORIES:"children's", theatre
LOCATION:Arden Theatre Company
WEBSITE:https://ardentheatre.org/event/charlottes-web/2018-11-28/#tick
 ets
URL:https://ardentheatre.org/event/charlottes-web/2018-11-28/#tickets
CONTACT:2159221122
ORGANIZER;CN="Arden Theatre Company":http://phillytodo.com/profile/Ard
 enTheatreCompany
ATTACH;FMTTYPE="image/jpeg":http://storage.ning.com/topology/rest/1.0/
 file/get/3055014690?profile=original
ATTENDEE;ROLE=REQ-PARTICIPANT;PARTSTAT=ACCEPTED;RSVP=TRUE;CN="Arden Th
 eatre Company":http://phillytodo.com/profile/ArdenTheatreCompany
END:VEVENT
END:VCALENDAR
