BEGIN:VCALENDAR
PRODID:NingEventWidget-v1
VERSION:2.0
METHOD:PUBLISH
BEGIN:VEVENT
UID:4320450:Event:171505
DTSTAMP:20260425T110937Z
SUMMARY:Charlotte's Web
DESCRIPTION:Arden Children’s Theatre is back! Join us for the heart-
 warming story of a special friendship between a lovable pig and everyo
 ne’s favorite spider. Wilbur, Charlotte and their barnyard friends h
 ave never been more delightful than in this wonderful tribute to one o
 f the greatest stories for children ever written.\n\nFor more informat
 ion visit http://phillytodo.com/events/charlotte-s-web-1
DTSTART:20221207T050000Z
DTEND:20230130T045900Z
CATEGORIES:theatre
LOCATION:Arden Theatre Company
WEBSITE:https://ardentheatre.org/production/charlottes-web/#tickets
URL:https://ardentheatre.org/production/charlottes-web/#tickets
CONTACT:215.922.1122
ORGANIZER;CN="Arden Theatre Company":http://phillytodo.com/profile/Ard
 enTheatreCompany
ATTACH;FMTTYPE="image/jpeg":https://storage.ning.com/topology/rest/1.0
 /file/get/10854999475?profile=original
ATTENDEE;ROLE=REQ-PARTICIPANT;PARTSTAT=ACCEPTED;RSVP=TRUE;CN="Arden Th
 eatre Company":http://phillytodo.com/profile/ArdenTheatreCompany
END:VEVENT
END:VCALENDAR
