BEGIN:VCALENDAR
PRODID:NingEventWidget-v1
VERSION:2.0
METHOD:PUBLISH
BEGIN:VEVENT
UID:4320450:Event:1897
DTSTAMP:20260425T142544Z
SUMMARY:Champagne & Cupcakes After-Work Soiree & Fashion Event
DESCRIPTION:Our ModestE' & Jessica Scott, LLC In association with RW P
 resents Presents 'Champagne & Cupcakes After-Work Soiree' Beginning at
  5:30pm, guests of our exclusive, private event will enjoy an evening 
 filled with champagne and cupcakes, plus other great goodies!\n\nGet a
  sneak peek into the upcoming 2010 Saks Fifth Avenue Fall Line. Hang o
 ut with the numerous celebrities making an appearance throughout the e
 vening. Choose from ANY OR ALL of the 6 fun-filled (10 minute) work sh
 ops to get involved in and learn new tricks for the hottest trends, sk
 incare, shoes, handbags, and jewelry from the people of Saks Fifth Ave
 nue!\n\nBid in the Silent Charity Auction! This exclusive, private eve
 nt is extremly limited in size. All guests of our party will receive a
  Saks coupon for 15% off to be used that night! Take a gift bag filled
  with lots of treats from our sponsors - including UpcomingEvents.com,
  PopChips, Jeff Kellmer, SunMyst Studios, Voila Designs, Philly2Night,
  DiningOut Magazine, Saks, plus so many more!\n\nThis exclusive, priva
 te event is limited in size so please visit the site listed in 'websit
 e link' for more details and to purchase your $25 tickets today! A por
 tion of the evening's proceeds benefit The Center for Autism. DJ Music
  Provided By: Schaffer Sound Photography Provided By: Samuel Eli Photo
 graphy.\n\nhttp://www.UpcomingEvents.com/event/5023/ptodo/\n\nFor more
  information visit http://phillytodo.com/events/champagne-cupcakes-aft
 erwork
DTSTART:20100728T213000Z
DTEND:20100729T000000Z
CATEGORIES:soiree
LOCATION:Saks Fifth Avenue
WEBSITE:http://www.UpcomingEvents.com/event/5023/ptodo/
URL:http://www.UpcomingEvents.com/event/5023/ptodo/
CONTACT:
ORGANIZER;CN="UpcomingEvents.com":http://phillytodo.com/profile/Upcomi
 ngEventscom
ATTACH;FMTTYPE="image/jpeg":http://storage.ning.com/topology/rest/1.0/
 file/get/3054949646?profile=original
ATTENDEE;ROLE=REQ-PARTICIPANT;PARTSTAT=ACCEPTED;RSVP=TRUE;CN="Upcoming
 Events.com":http://phillytodo.com/profile/UpcomingEventscom
END:VEVENT
END:VCALENDAR
