BEGIN:VCALENDAR
PRODID:NingEventWidget-v1
VERSION:2.0
METHOD:PUBLISH
BEGIN:VEVENT
UID:4320450:Event:56218
DTSTAMP:20260425T130854Z
SUMMARY:Ceramic Art Exhibition: Weighty Concerns: Both Artist and Moth
 er
DESCRIPTION:The weight of parenthood is both lovely and exhausting. Je
 nnifer Johnson, Darla Jackson, and Suzanne Seesman are each at differe
 nt stages of motherhood and are also actively practicing artists. They
  will spend the month installing work they feel addresses the weighty 
 concerns of being both an artist and a mother. The exhibition will als
 o engage the project Both Artist and Mother, created by Kathryne Fishe
 r. On Saturday, September 23, 12-2pm we will host an event for parents
  in the arts to come together for discussion and support. Children wel
 come.\n\nFor more information visit http://phillytodo.com/events/ceram
 ic-art-exhibition-weighty-concerns-both-artist-and-mother
DTSTART:20180907T150000Z
DTEND:20180923T220000Z
CATEGORIES:exhibition
LOCATION:The Clay Studio
WEBSITE:
URL:
CONTACT:
ORGANIZER;CN="Bryan Chan":http://phillytodo.com/profile/BryanChan
ATTACH;FMTTYPE="image/jpeg":http://storage.ning.com/topology/rest/1.0/
 file/get/3055013833?profile=original
ATTENDEE;ROLE=REQ-PARTICIPANT;PARTSTAT=ACCEPTED;RSVP=TRUE;CN="Bryan Ch
 an":http://phillytodo.com/profile/BryanChan
END:VEVENT
END:VCALENDAR
