BEGIN:VCALENDAR
PRODID:NingEventWidget-v1
VERSION:2.0
METHOD:PUBLISH
BEGIN:VEVENT
UID:4320450:Event:56014
DTSTAMP:20260425T112622Z
SUMMARY:Ceramic Art Exhibition: Upon Reflection: Andrew Snyder
DESCRIPTION:Andrew Snyder, Professor of Ceramics at West Chester Unive
 rsity, will occupy our gallery during the month of September. He will 
 explore his ideas about the power of skill, throwing, and the demonstr
 ating of these concepts.\n\nFor more information visit http://phillyto
 do.com/events/ceramic-art-exhibition-upon-reflection-andrew-snyder
DTSTART:20180907T150000Z
DTEND:20180923T220000Z
CATEGORIES:exhibition
LOCATION:The Clay Studio
WEBSITE:
URL:
CONTACT:
ORGANIZER;CN="Bryan Chan":http://phillytodo.com/profile/BryanChan
ATTACH;FMTTYPE="image/jpeg":http://storage.ning.com/topology/rest/1.0/
 file/get/3055015632?profile=original
ATTENDEE;ROLE=REQ-PARTICIPANT;PARTSTAT=ACCEPTED;RSVP=TRUE;CN="Bryan Ch
 an":http://phillytodo.com/profile/BryanChan
END:VEVENT
END:VCALENDAR
