BEGIN:VCALENDAR
PRODID:NingEventWidget-v1
VERSION:2.0
METHOD:PUBLISH
BEGIN:VEVENT
UID:4320450:Event:46515
DTSTAMP:20260425T143106Z
SUMMARY:Century 21's Biannual Clearance Sale
DESCRIPTION:Century 21 Department Store’s biannual clearance sale be
 gins June 23rd!  Don’t miss out on this limited time offer, featuri
 ng incredible designer brands up to 75% off! Stop in any Century 21 De
 partment Store location or visit www.c21stores.com.\n\nFor more inform
 ation visit http://phillytodo.com/events/century-21-s-biannual-clearan
 ce-sale
DTSTART:20160623T040000Z
DTEND:20160624T035900Z
CATEGORIES:sale
LOCATION:Century 21 Department Store
WEBSITE:http://www.c21stores.com
URL:http://www.c21stores.com
CONTACT:2155182121
ORGANIZER;CN=CashmanAssoc:http://phillytodo.com/profile/CashmanAssoc
ATTACH;FMTTYPE="image/jpeg":http://storage.ning.com/topology/rest/1.0/
 file/get/3054995357?profile=original
ATTENDEE;ROLE=REQ-PARTICIPANT;PARTSTAT=ACCEPTED;RSVP=TRUE;CN=CashmanAs
 soc:http://phillytodo.com/profile/CashmanAssoc
END:VEVENT
END:VCALENDAR
