BEGIN:VCALENDAR
PRODID:NingEventWidget-v1
VERSION:2.0
METHOD:PUBLISH
BEGIN:VEVENT
UID:4320450:Event:168708
DTSTAMP:20260425T175149Z
SUMMARY:Centipede Tours presents “Evening Strolls through History”
DESCRIPTION:Centipede Tours brings back “Evening Strolls through His
 tory,” two 90-minute tours led by guides dressed in colonial costume
 s. Beginning July 16 and running through October 9, the evening walkin
 g tours allow patrons to journey back to 18th-century Philadelphia. On
  the Historic Philadelphia tour, hear the dramatic story of America’
 s fight for freedom as you explore the exteriors of Independence Hall,
  Christ Church, The Betsy Ross House, and more. During the Society Hil
 l tour, visitors will explore one of the city’s oldest neighborhoods
  as guides point out Trinity houses, carriage steps, and discuss past 
 colonial residents' customs and lifestyles while providing folklore an
 d anecdotes.\nSociety Hill tour begins at Welcome Park, 129 Sansom Wal
 k, Philadelphia, PA 19106\nHistoric Philadelphia tour begins at The Na
 tional Constitution Center, 525 Arch Street, Philadelphia, PA 19106\nC
 ost: $18/adults, $17/senior citizens, and $15/children 12 and under.\n
 \nFor more information visit http://phillytodo.com/events/centipede-to
 urs-presents-evening-strolls-through-history-21
DTSTART:20211008T220000Z
DTEND:20211008T233000Z
CATEGORIES:walking, tour
LOCATION:Society Hill tour begins at Welcome Park, 129 Sansom Walk, Ph
 iladelphia, PA 19106; Historic Philadelphia tour begins at The Nationa
 l Constitution Center, 525 Arch Street, Philadelphia, PA 19106
WEBSITE:http://centipedetourspa.com/tours/eveningstrolls.html
URL:http://centipedetourspa.com/tours/eveningstrolls.html
CONTACT:215-735-3123
ORGANIZER:Centipede Tours
ATTACH;FMTTYPE="image/jpeg":https://storage.ning.com/topology/rest/1.0
 /file/get/9380584076?profile=original
ATTENDEE;ROLE=REQ-PARTICIPANT;PARTSTAT=ACCEPTED;RSVP=TRUE;CN="Bryan Ch
 an":http://phillytodo.com/profile/BryanChan
END:VEVENT
END:VCALENDAR
