BEGIN:VCALENDAR
PRODID:NingEventWidget-v1
VERSION:2.0
METHOD:PUBLISH
BEGIN:VEVENT
UID:4320450:Event:168527
DTSTAMP:20260425T125658Z
SUMMARY:Center for Art in Wood Presents: What is Contemporary Jewelry 
 (and Why Should We Care)?
DESCRIPTION:Join a free, virtual discussion hosted by the Center for A
 rt in Wood to learn about the context and history of the works feature
 d in its latest exhibition, “Wood & Body: Expressions in Contemporar
 y Jewelry.” The program includes a panel of experts, critics, leadin
 g advocates, and a contemporary jewelry artist discussing the exhibiti
 on and a series of questions about the art form itself. The panel feat
 ures curatorial consultant/educator Helen W. Drutt English, independen
 t curator and writer Elisabeth Essner, and New York City Jewelry Week 
 co-founder Bella Neyman, with artist Caroline Gore.\n\nFor more inform
 ation visit http://phillytodo.com/events/center-for-art-in-wood-presen
 ts-what-is-contemporary-jewelry-and
DTSTART:20210923T223000Z
DTEND:20210923T233000Z
CATEGORIES:virtual, discussion
LOCATION:Virtual
WEBSITE:http://www.centerforartinwood.org
URL:http://www.centerforartinwood.org
CONTACT:
ORGANIZER:Center for Art in Wood
ATTACH;FMTTYPE="image/jpeg":https://storage.ning.com/topology/rest/1.0
 /file/get/9583580895?profile=original
ATTENDEE;ROLE=REQ-PARTICIPANT;PARTSTAT=ACCEPTED;RSVP=TRUE;CN="Bryan Ch
 an":http://phillytodo.com/profile/BryanChan
END:VEVENT
END:VCALENDAR
