BEGIN:VCALENDAR
PRODID:NingEventWidget-v1
VERSION:2.0
METHOD:PUBLISH
BEGIN:VEVENT
UID:4320450:Event:168835
DTSTAMP:20260425T125630Z
SUMMARY:Center for Art in Wood Presents: Sip &amp; WiP
DESCRIPTION:Join the Center for Art in Wood for a fun evening sharing 
 your creative work in progress (WiP) from the comfort of your home whi
 le sipping on the beverage of your choice. This series of casual creat
 ive hangouts are for people to connect with one and other and share th
 eir latest project(s). Bring your materials and your WIP for a virtual
  meetup with your fellow drawing and crafting buddies! This event is f
 ree to the public but participants are encouraged give a suggested don
 ation of $5 to help the Center for Art in Wood provide programs and ex
 hibitions throughout the year.\n\nFor more information visit http://ph
 illytodo.com/events/center-for-art-in-wood-presents-sip-amp-wip
DTSTART:20210922T220000Z
DTEND:20210922T230000Z
CATEGORIES:virtual, discussion
LOCATION:Virtual
WEBSITE:https://centerforartinwood.org
URL:https://centerforartinwood.org
CONTACT:
ORGANIZER:Center for Art in Wood
ATTACH;FMTTYPE="image/jpeg":https://storage.ning.com/topology/rest/1.0
 /file/get/9583582276?profile=original
ATTENDEE;ROLE=REQ-PARTICIPANT;PARTSTAT=ACCEPTED;RSVP=TRUE;CN="Bryan Ch
 an":http://phillytodo.com/profile/BryanChan
END:VEVENT
END:VCALENDAR
